BEGIN:VCALENDAR
VERSION:2.0
PRODID:-//Bobs Garden Center - ECPv6.15.20//NONSGML v1.0//EN
CALSCALE:GREGORIAN
METHOD:PUBLISH
X-WR-CALNAME:Bobs Garden Center
X-ORIGINAL-URL:https://bobsgardencenter.com
X-WR-CALDESC:Events for Bobs Garden Center
REFRESH-INTERVAL;VALUE=DURATION:PT1H
X-Robots-Tag:noindex
X-PUBLISHED-TTL:PT1H
BEGIN:VTIMEZONE
TZID:America/New_York
BEGIN:DAYLIGHT
TZOFFSETFROM:-0500
TZOFFSETTO:-0400
TZNAME:EDT
DTSTART:20240310T070000
END:DAYLIGHT
BEGIN:STANDARD
TZOFFSETFROM:-0400
TZOFFSETTO:-0500
TZNAME:EST
DTSTART:20241103T060000
END:STANDARD
BEGIN:DAYLIGHT
TZOFFSETFROM:-0500
TZOFFSETTO:-0400
TZNAME:EDT
DTSTART:20250309T070000
END:DAYLIGHT
BEGIN:STANDARD
TZOFFSETFROM:-0400
TZOFFSETTO:-0500
TZNAME:EST
DTSTART:20251102T060000
END:STANDARD
BEGIN:DAYLIGHT
TZOFFSETFROM:-0500
TZOFFSETTO:-0400
TZNAME:EDT
DTSTART:20260308T070000
END:DAYLIGHT
BEGIN:STANDARD
TZOFFSETFROM:-0400
TZOFFSETTO:-0500
TZNAME:EST
DTSTART:20261101T060000
END:STANDARD
END:VTIMEZONE
BEGIN:VEVENT
DTSTART;TZID=America/New_York:20251129T120000
DTEND;TZID=America/New_York:20251129T133000
DTSTAMP:20260421T054902
CREATED:20251028T172740Z
LAST-MODIFIED:20251110T160830Z
UID:8532-1764417600-1764423000@bobsgardencenter.com
SUMMARY:Don't be a Grinch\, Shop Small Business (Saturday)!
DESCRIPTION:Get into the holiday spirit and support small businesses this season!Special Highlights:Grinch-themed drinks with Sip-a-Latte from 11 AM – 3 PM!Warm seasonal donuts from DonutNV from 11 AM- 3 PM!Meet the Grinch himself from 12 PM – 1:45 PM! This is a FREE event.Explore our Christmas Wonderland – a magical shoppingexperience filled with seasonal decor\, gifts\, and more!Make it a day to remember by shopping local\, enjoying festive drinks\, and snapping a pic with the Grinch! Don’t let the holiday shopping stress get to you—Bob’s Garden Center is here to help you find the perfect gifts while having fun. Support Small. Shop Local. Spread Holiday Cheer!
URL:https://bobsgardencenter.com/event/dont-be-a-grinch-shop-small-business-saturday/
ATTACH;FMTTYPE=image/png:https://bobsgardencenter.com/wp-content/uploads/2025/10/Beige-Minimalistic-Aesthetic-Work-Christmas-Party-Facebook-Event-Cover-1.png
END:VEVENT
END:VCALENDAR