BEGIN:VCALENDAR
VERSION:2.0
PRODID:-//Bobs Garden Center - ECPv6.15.20//NONSGML v1.0//EN
CALSCALE:GREGORIAN
METHOD:PUBLISH
X-ORIGINAL-URL:https://bobsgardencenter.com
X-WR-CALDESC:Events for Bobs Garden Center
REFRESH-INTERVAL;VALUE=DURATION:PT1H
X-Robots-Tag:noindex
X-PUBLISHED-TTL:PT1H
BEGIN:VTIMEZONE
TZID:America/New_York
BEGIN:DAYLIGHT
TZOFFSETFROM:-0500
TZOFFSETTO:-0400
TZNAME:EDT
DTSTART:20240310T070000
END:DAYLIGHT
BEGIN:STANDARD
TZOFFSETFROM:-0400
TZOFFSETTO:-0500
TZNAME:EST
DTSTART:20241103T060000
END:STANDARD
BEGIN:DAYLIGHT
TZOFFSETFROM:-0500
TZOFFSETTO:-0400
TZNAME:EDT
DTSTART:20250309T070000
END:DAYLIGHT
BEGIN:STANDARD
TZOFFSETFROM:-0400
TZOFFSETTO:-0500
TZNAME:EST
DTSTART:20251102T060000
END:STANDARD
BEGIN:DAYLIGHT
TZOFFSETFROM:-0500
TZOFFSETTO:-0400
TZNAME:EDT
DTSTART:20260308T070000
END:DAYLIGHT
BEGIN:STANDARD
TZOFFSETFROM:-0400
TZOFFSETTO:-0500
TZNAME:EST
DTSTART:20261101T060000
END:STANDARD
END:VTIMEZONE
BEGIN:VEVENT
DTSTART;TZID=America/New_York:20251211T080000
DTEND;TZID=America/New_York:20251211T100000
DTSTAMP:20260419T093953
CREATED:20251209T152513Z
LAST-MODIFIED:20251209T152551Z
UID:8947-1765440000-1765447200@bobsgardencenter.com
SUMMARY:Fox 29 Good Day LIVE!
DESCRIPTION:FOX 29 GOOD DAY is coming to Bob’s—LIVE!\nJoin us Thursday 12.11.25 from 8am–10am as Jenn Frederick broadcasts live right from Bob’s amazing Christmas Wonderland! She’ll be showcasing all the festive magic we’ve created\, ornaments\, trees\, decor\, gifts\, and SO much more! PLUS—Sip-a-Latte will be on-site serving their delicious signature lattes and tasty treats!Don’t miss this chance to be part of a live broadcast\, make memories\, and soak in the holiday spirit with us!\nGrab your family\, come early\, and JOIN THE FUN!
URL:https://bobsgardencenter.com/event/fox-29-good-day-live/
ATTACH;FMTTYPE=image/png:https://bobsgardencenter.com/wp-content/uploads/2025/12/Blue-Simple-Christmas-Tree-Delivery-Service-Facebook-Post-.png
END:VEVENT
BEGIN:VEVENT
DTSTART;TZID=America/New_York:20251211T080000
DTEND;TZID=America/New_York:20251211T110000
DTSTAMP:20260419T093953
CREATED:20251209T153217Z
LAST-MODIFIED:20251209T153217Z
UID:8952-1765440000-1765450800@bobsgardencenter.com
SUMMARY:Sip A Latte Pop UP!
DESCRIPTION:Make your morning extra special! While you enjoy the LIVE news broadcast happening right here at Bob’s\, Sip-a-Latte will be serving up hot drinks and whipping up something special just for us! \nCome grab a cozy cup\, warm up\, and shop around while you’re here. It’s the perfect way to start your day! \nSee you soon!
URL:https://bobsgardencenter.com/event/sip-a-latte-pop-up/
ATTACH;FMTTYPE=image/png:https://bobsgardencenter.com/wp-content/uploads/2025/12/Add-a-subheading-1.png
END:VEVENT
END:VCALENDAR