BEGIN:VCALENDAR
VERSION:2.0
PRODID:-//Bobs Garden Center - ECPv6.15.20//NONSGML v1.0//EN
CALSCALE:GREGORIAN
METHOD:PUBLISH
X-WR-CALNAME:Bobs Garden Center
X-ORIGINAL-URL:https://bobsgardencenter.com
X-WR-CALDESC:Events for Bobs Garden Center
REFRESH-INTERVAL;VALUE=DURATION:PT1H
X-Robots-Tag:noindex
X-PUBLISHED-TTL:PT1H
BEGIN:VTIMEZONE
TZID:America/New_York
BEGIN:DAYLIGHT
TZOFFSETFROM:-0500
TZOFFSETTO:-0400
TZNAME:EDT
DTSTART:20250309T070000
END:DAYLIGHT
BEGIN:STANDARD
TZOFFSETFROM:-0400
TZOFFSETTO:-0500
TZNAME:EST
DTSTART:20251102T060000
END:STANDARD
BEGIN:DAYLIGHT
TZOFFSETFROM:-0500
TZOFFSETTO:-0400
TZNAME:EDT
DTSTART:20260308T070000
END:DAYLIGHT
BEGIN:STANDARD
TZOFFSETFROM:-0400
TZOFFSETTO:-0500
TZNAME:EST
DTSTART:20261101T060000
END:STANDARD
BEGIN:DAYLIGHT
TZOFFSETFROM:-0500
TZOFFSETTO:-0400
TZNAME:EDT
DTSTART:20270314T070000
END:DAYLIGHT
BEGIN:STANDARD
TZOFFSETFROM:-0400
TZOFFSETTO:-0500
TZNAME:EST
DTSTART:20271107T060000
END:STANDARD
END:VTIMEZONE
BEGIN:VEVENT
DTSTART;TZID=America/New_York:20260214T100000
DTEND;TZID=America/New_York:20260214T110000
DTSTAMP:20260422T061205
CREATED:20260113T165904Z
LAST-MODIFIED:20260116T185717Z
UID:9069-1771063200-1771066800@bobsgardencenter.com
SUMMARY:FREE! Birding Seminar
DESCRIPTION:For the Love of Birds – FREE Birding Seminar  \nLove birds? Join us for a FREE Birding Seminar and celebrate Valentine’s Day the birdy way! \n📅 When: Saturday\, February 14⏰ Time: 10:00 AM – 11:00 AM📍 Where: Bob’s Garden Center \nWe’re excited to welcome special guest Cean Laverty from Wild Delight Birdfood! Whether you’re brand new to birding or a seasoned backyard bird lover\, this seminar is for all ages and experience levels. \nCean will cover: \n\n\nIdentifying local birds \n\n\nCaring for backyard wildlife \n\n\nAttracting different types of birds to your feeders \n\n\nAsk questions\, win prizes\, and grow your love for nature! \nThis is a FREE seminar\, but registration is required.Space is limited\, so please call the store or register online to save your seat. \nWe can’t wait to share the love of birds with you!
URL:https://bobsgardencenter.com/event/free-birding-seminar/
ATTACH;FMTTYPE=image/png:https://bobsgardencenter.com/wp-content/uploads/2026/01/Grey-And-Orange-Modern-Wild-Birds-Youtube-Thumbnail.png
END:VEVENT
END:VCALENDAR