BEGIN:VCALENDAR
VERSION:2.0
PRODID:-//Bobs Garden Center - ECPv6.15.20//NONSGML v1.0//EN
CALSCALE:GREGORIAN
METHOD:PUBLISH
X-WR-CALNAME:Bobs Garden Center
X-ORIGINAL-URL:https://bobsgardencenter.com
X-WR-CALDESC:Events for Bobs Garden Center
REFRESH-INTERVAL;VALUE=DURATION:PT1H
X-Robots-Tag:noindex
X-PUBLISHED-TTL:PT1H
BEGIN:VTIMEZONE
TZID:America/New_York
BEGIN:DAYLIGHT
TZOFFSETFROM:-0500
TZOFFSETTO:-0400
TZNAME:EDT
DTSTART:20240310T070000
END:DAYLIGHT
BEGIN:STANDARD
TZOFFSETFROM:-0400
TZOFFSETTO:-0500
TZNAME:EST
DTSTART:20241103T060000
END:STANDARD
BEGIN:DAYLIGHT
TZOFFSETFROM:-0500
TZOFFSETTO:-0400
TZNAME:EDT
DTSTART:20250309T070000
END:DAYLIGHT
BEGIN:STANDARD
TZOFFSETFROM:-0400
TZOFFSETTO:-0500
TZNAME:EST
DTSTART:20251102T060000
END:STANDARD
BEGIN:DAYLIGHT
TZOFFSETFROM:-0500
TZOFFSETTO:-0400
TZNAME:EDT
DTSTART:20260308T070000
END:DAYLIGHT
BEGIN:STANDARD
TZOFFSETFROM:-0400
TZOFFSETTO:-0500
TZNAME:EST
DTSTART:20261101T060000
END:STANDARD
END:VTIMEZONE
BEGIN:VEVENT
DTSTART;TZID=America/New_York:20251209T160000
DTEND;TZID=America/New_York:20251209T200000
DTSTAMP:20260421T084915
CREATED:20251010T165802Z
LAST-MODIFIED:20251130T170547Z
UID:8450-1765296000-1765310400@bobsgardencenter.com
SUMMARY:Photos with Santa PETS and PEOPLE 12.9.25
DESCRIPTION:Pet and Family Photos with Santa\nCreate lasting holiday memories with family photos featuring Santa in his gorgeous vintage sleigh and his cozy velvet chair!\nYour Photo Session: Enjoy time with Santa\, where you can take pictures in both of these beautiful\, festive settings.Photo Package: You will receive 6 professionally captured photos (3 in each setting)\, delivered to your email 48 hours after your session.Bonus: Feel free to take as many photos as you’d like with your own device during your session.Perfect for holiday cards\, social media\, and keepsakes!\n\n Tickets:Timed tickets are available for purchase ONLINE ONLY. Need help purchasing? Visit us in-store\, and we’ll be happy to assist you.\nTickets are non-refundable.\n\nWe’re excited to welcome both pets and families to this special experience! However\, if you or someone in your family has pet allergies\, it might be best to plan your visit to Santa for another time. We want everyone to enjoy the magic!
URL:https://bobsgardencenter.com/event/__trashed-2/
ATTACH;FMTTYPE=image/png:https://bobsgardencenter.com/wp-content/uploads/2025/10/Photos-with-Santa-Copy.png
END:VEVENT
BEGIN:VEVENT
DTSTART;TZID=America/New_York:20251207T140000
DTEND;TZID=America/New_York:20251207T180000
DTSTAMP:20260421T084915
CREATED:20251023T201831Z
LAST-MODIFIED:20251110T160600Z
UID:8452-1765116000-1765130400@bobsgardencenter.com
SUMMARY:Photos with the GRINCH 12/7/25
DESCRIPTION:Photos with The Grinch! Make some mischief and holiday memories with a one-of-a-kind photo session for just $30.00! \nEach session includes:🎁 6 professionally taken photos🎁 A few minutes of Grinchy fun — perfect for laughs and unforgettable moments! \n✨ Tickets are available online only and are non-refundable.These special photos make perfect gifts\, keepsakes\, or creative holiday crafts. \nDon’t miss your chance to meet the mean one himself — secure your spot today!
URL:https://bobsgardencenter.com/event/photos-with-the-grinch-12-7-25/
ATTACH;FMTTYPE=image/png:https://bobsgardencenter.com/wp-content/uploads/2025/10/hink.png
END:VEVENT
BEGIN:VEVENT
DTSTART;TZID=America/New_York:20251206T140000
DTEND;TZID=America/New_York:20251206T180000
DTSTAMP:20260421T084915
CREATED:20251023T201831Z
LAST-MODIFIED:20251110T160635Z
UID:8455-1765029600-1765044000@bobsgardencenter.com
SUMMARY:Photos with the GRINCH 12/6/25
DESCRIPTION:Photos with The Grinch! Make some mischief and holiday memories with a one-of-a-kind photo session for just $30.00! \nEach session includes:🎁 6 professionally taken photos🎁 A few minutes of Grinchy fun — perfect for laughs and unforgettable moments! \n✨ Tickets are available online only and are non-refundable.These special photos make perfect gifts\, keepsakes\, or creative holiday crafts. \nDon’t miss your chance to meet the mean one himself — secure your spot today!
URL:https://bobsgardencenter.com/event/photos-with-the-grinch-12-6-25/
ATTACH;FMTTYPE=image/png:https://bobsgardencenter.com/wp-content/uploads/2025/10/hink.png
END:VEVENT
BEGIN:VEVENT
DTSTART;TZID=America/New_York:20251205T160000
DTEND;TZID=America/New_York:20251205T200000
DTSTAMP:20260421T084915
CREATED:20251003T171224Z
LAST-MODIFIED:20251031T165736Z
UID:8521-1764950400-1764964800@bobsgardencenter.com
SUMMARY:Photos with Santa PETS ONLY 12.5.25
DESCRIPTION:Family PET Photos with Santa \nCreate lasting holiday memories with family photos featuring Santa in his gorgeous vintage sleigh and his cozy velvet chair! \n\nYour Photo Session: Enjoy time with Santa\, where you can take pictures in both of these beautiful\, festive settings.\nPhoto Package: You will receive 6 professionally captured photos (3 in each setting)\, delivered to your email 48 hours after your session.\nBonus: Feel free to take as many photos as you’d like with your own device during your session.\n\nPerfect for holiday cards\, social media\, and keepsakes! \n🎟️ Tickets:\nTimed tickets are available for purchase ONLINE ONLY. Need help purchasing? Visit us in-store\, and we’ll be happy to assist you. \nTickets are non-refundable. \nNo walk-Ins. This session is for pets only.
URL:https://bobsgardencenter.com/event/photos-with-santa-pets-only-12-5-25-2/
ATTACH;FMTTYPE=image/png:https://bobsgardencenter.com/wp-content/uploads/2025/10/Photos-with-Santa-Copy.png
END:VEVENT
BEGIN:VEVENT
DTSTART;TZID=America/New_York:20251202T190000
DTEND;TZID=America/New_York:20251202T200000
DTSTAMP:20260421T084915
CREATED:20251028T164009Z
LAST-MODIFIED:20251031T165703Z
UID:8458-1764702000-1764705600@bobsgardencenter.com
SUMMARY:DECORATE YOUR OWN LIVE WREATH
DESCRIPTION:Workshop: Decorate a Live Wreath\nGet into the festive spirit by creating your live wreath! In this hands-on workshop\, you’ll decorate a beautiful wreath using mixed greens\, pinecones\, and more. Take your unique creation home and proudly display it on your front door\, where you’ll be greeted by the warmth of your handmade decor.\nRecommended for ages 15 and up!\nTickets: Available onlinePrice: $65 per personWhat to bring: We recommend garden gloves\, and if you have pruners\, please bring them along.This is a perfect opportunity to embrace the holiday season while unleashing your creativity! Tickets are not refundable.
URL:https://bobsgardencenter.com/event/decorate-your-own-live-wreath/
ATTACH;FMTTYPE=image/png:https://bobsgardencenter.com/wp-content/uploads/2025/10/Green-Cozy-Merry-Christmas-Instagram-Post-1.png
END:VEVENT
BEGIN:VEVENT
DTSTART;TZID=America/New_York:20251130T140000
DTEND;TZID=America/New_York:20251130T170000
DTSTAMP:20260421T084915
CREATED:20251028T163857Z
LAST-MODIFIED:20251031T165438Z
UID:8379-1764511200-1764522000@bobsgardencenter.com
SUMMARY:Photos with Santa 11/30/25
DESCRIPTION:Family Photos with Santa \nCreate lasting holiday memories with family photos featuring Santa in his gorgeous vintage sleigh and his cozy velvet chair! \n\nYour Photo Session: Enjoy time with Santa\, where you can take pictures in both of these beautiful\, festive settings.\nPhoto Package: You will receive 6 professionally captured photos (3 in each setting)\, delivered to your email 48 hours after your session.\nBonus: Feel free to take as many photos as you’d like with your own device during your session.\n\nPerfect for holiday cards\, social media\, and keepsakes! \n🎟️ Tickets:\nTimed tickets are available for purchase ONLINE ONLY. Need help purchasing? Visit us in-store\, and we’ll be happy to assist you. \nTickets are non-refundable. \nNo walk-ins.
URL:https://bobsgardencenter.com/event/photos-with-santa-11-30-25/
ATTACH;FMTTYPE=image/png:https://bobsgardencenter.com/wp-content/uploads/2025/10/Photos-with-Santa.png
END:VEVENT
BEGIN:VEVENT
DTSTART;TZID=America/New_York:20251129T120000
DTEND;TZID=America/New_York:20251129T133000
DTSTAMP:20260421T084915
CREATED:20251028T172740Z
LAST-MODIFIED:20251110T160830Z
UID:8532-1764417600-1764423000@bobsgardencenter.com
SUMMARY:Don't be a Grinch\, Shop Small Business (Saturday)!
DESCRIPTION:Get into the holiday spirit and support small businesses this season!Special Highlights:Grinch-themed drinks with Sip-a-Latte from 11 AM – 3 PM!Warm seasonal donuts from DonutNV from 11 AM- 3 PM!Meet the Grinch himself from 12 PM – 1:45 PM! This is a FREE event.Explore our Christmas Wonderland – a magical shoppingexperience filled with seasonal decor\, gifts\, and more!Make it a day to remember by shopping local\, enjoying festive drinks\, and snapping a pic with the Grinch! Don’t let the holiday shopping stress get to you—Bob’s Garden Center is here to help you find the perfect gifts while having fun. Support Small. Shop Local. Spread Holiday Cheer!
URL:https://bobsgardencenter.com/event/dont-be-a-grinch-shop-small-business-saturday/
ATTACH;FMTTYPE=image/png:https://bobsgardencenter.com/wp-content/uploads/2025/10/Beige-Minimalistic-Aesthetic-Work-Christmas-Party-Facebook-Event-Cover-1.png
END:VEVENT
BEGIN:VEVENT
DTSTART;TZID=America/New_York:20251123T140000
DTEND;TZID=America/New_York:20251123T173000
DTSTAMP:20260421T084915
CREATED:20251003T165508Z
LAST-MODIFIED:20251031T165528Z
UID:8388-1763906400-1763919000@bobsgardencenter.com
SUMMARY:Photos with Santa 11/23/25
DESCRIPTION:Family Photos with Santa \nCreate lasting holiday memories with family photos featuring Santa in his gorgeous vintage sleigh and his cozy velvet chair! \n\nYour Photo Session: Enjoy time with Santa\, where you can take pictures in both of these beautiful\, festive settings.\nPhoto Package: You will receive 6 professionally captured photos (3 in each setting)\, delivered to your email 48 hours after your session.\nBonus: Feel free to take as many photos as you’d like with your own device during your session.\n\nPerfect for holiday cards\, social media\, and keepsakes! \n🎟️ Tickets:\nTimed tickets are available for purchase ONLINE ONLY. Need help purchasing? Visit us in-store\, and we’ll be happy to assist you. \nTickets are non-refundable. \nNo walk-ins.
URL:https://bobsgardencenter.com/event/photos-with-santa-11-23-25/
ATTACH;FMTTYPE=image/png:https://bobsgardencenter.com/wp-content/uploads/2025/10/Photos-with-Santa.png
END:VEVENT
BEGIN:VEVENT
DTSTART;TZID=America/New_York:20251123T110000
DTEND;TZID=America/New_York:20251123T170000
DTSTAMP:20260421T084915
CREATED:20251118T143016Z
LAST-MODIFIED:20251118T143016Z
UID:8747-1763895600-1763917200@bobsgardencenter.com
SUMMARY:Sip A Latte
DESCRIPTION:Come join us at Sip A Latte for some delicious java while Santa is here for photos (Sign up online for your spot with the Big Guy)! Grab a cozy hot drink or a refreshing cold one\, and snap some fun pictures with your family around the store. We can’t wait to celebrate the holiday season with you!
URL:https://bobsgardencenter.com/event/sip-a-latte-3/
ATTACH;FMTTYPE=image/png:https://bobsgardencenter.com/wp-content/uploads/2025/11/Add-a-subheading-4.png
END:VEVENT
END:VCALENDAR